BEGIN:VCALENDAR
VERSION:2.0
PRODID:-//adeniyisamuel - ECPv6.15.20//NONSGML v1.0//EN
CALSCALE:GREGORIAN
METHOD:PUBLISH
X-ORIGINAL-URL:https://adeniyisamuelmusic.com
X-WR-CALDESC:Events for adeniyisamuel
REFRESH-INTERVAL;VALUE=DURATION:PT1H
X-Robots-Tag:noindex
X-PUBLISHED-TTL:PT1H
BEGIN:VTIMEZONE
TZID:UTC
BEGIN:STANDARD
TZOFFSETFROM:+0000
TZOFFSETTO:+0000
TZNAME:UTC
DTSTART:20200101T000000
END:STANDARD
END:VTIMEZONE
BEGIN:VEVENT
DTSTART;TZID=UTC:20241101T190000
DTEND;TZID=UTC:20241101T210000
DTSTAMP:20260423T160416
CREATED:20241016T033250Z
LAST-MODIFIED:20241016T033250Z
UID:1360-1730487600-1730494800@adeniyisamuelmusic.com
SUMMARY:Cendrillon: Opera Arlington\,TX
DESCRIPTION:Adeniyi Samuel\, Bass-Baritone: debut opera with Opera Arlington\, as Baron de Pictordu in the production of Cendrillon\, composed by Pauline Viardot. \nDirected by Eliza Escalante\nConducted by Jason Lim
URL:https://adeniyisamuelmusic.com/event/cendrillon-opera-arlingtontx/
LOCATION:Trinity UMC of Arlington\, 1200 W Green Oaks Blvd\, Arlington\, TX\, Arlington
END:VEVENT
BEGIN:VEVENT
DTSTART;TZID=UTC:20231224T100000
DTEND;TZID=UTC:20231224T120000
DTSTAMP:20260423T160416
CREATED:20231218T175522Z
LAST-MODIFIED:20231218T175522Z
UID:1264-1703412000-1703419200@adeniyisamuelmusic.com
SUMMARY:We Need a Savior Musical
DESCRIPTION:We Need a Savior (A One-Man Musical): A Telling of the Birth of Christ from an African Perspective with Nigerian and Western Music Influences. \nCreator and Performer: Adeniyi Samuel (Bass-baritone) \nInvitation from the Redeemed Christian Church of God\, House of Glory
URL:https://adeniyisamuelmusic.com/event/we-need-a-savior-musical-2/
LOCATION:RCCG House of Glory\, 40 Broad Street\, Freehold\, NJ\, 07728\, United States
ORGANIZER;CN="RCCG House of Glory":MAILTO:office@rccgfreehold.org
END:VEVENT
BEGIN:VEVENT
DTSTART;TZID=UTC:20231221T183000
DTEND;TZID=UTC:20231221T193000
DTSTAMP:20260423T160416
CREATED:20231218T181909Z
LAST-MODIFIED:20231218T181909Z
UID:1275-1703183400-1703187000@adeniyisamuelmusic.com
SUMMARY:Christmas Concert
DESCRIPTION:Christmas Concert with Texas Guitar Society \nAn Evening of Christmas Music with String Instruments and Voice \nSinger: Adeniyi Samuel (Bass-Baritone)
URL:https://adeniyisamuelmusic.com/event/christmas-concert-2/
LOCATION:Texas Guitar Society\, 285 Uptown Blvd\, Building 300\, Cedar Hills\, TX\, 75104\, United States
ORGANIZER;CN="Teaxs Guitar Society":MAILTO:Abraham@texasguitarsociety.com
END:VEVENT
BEGIN:VEVENT
DTSTART;TZID=UTC:20231217T110000
DTEND;TZID=UTC:20231217T130000
DTSTAMP:20260423T160416
CREATED:20231218T174523Z
LAST-MODIFIED:20231218T174523Z
UID:1259-1702810800-1702818000@adeniyisamuelmusic.com
SUMMARY:We Need a Savior Musical
DESCRIPTION:We Need a Savior (A One-Man Musical): A Telling of the Birth of Christ from an African Perspective with Nigerian and Western Music Influences. \nCreator and Performer: Adeniyi Samuel (Bass-baritone) \nInvitation from The CityLight Church for their 2023 Christmas of Light
URL:https://adeniyisamuelmusic.com/event/we-need-a-savior-musical/
LOCATION:CityLight Church\, 824 E 43 St.\, Chicago\, IL\, 60653\, United States
ORGANIZER;CN="The CityLight Church":MAILTO:info@thecitylight.org
END:VEVENT
BEGIN:VEVENT
DTSTART;TZID=UTC:20231214T190000
DTEND;TZID=UTC:20231214T200000
DTSTAMP:20260423T160416
CREATED:20231218T181515Z
LAST-MODIFIED:20231218T181515Z
UID:1269-1702580400-1702584000@adeniyisamuelmusic.com
SUMMARY:Christmas Concert
DESCRIPTION:Christmas Concert with Texas Guitar Society \nAn Evening of Christmas Music with String Instruments and Voice \nSinger: Adeniyi Samuel (Bass-Baritone)
URL:https://adeniyisamuelmusic.com/event/christmas-concert/
LOCATION:North Richland Hills _Texas Guitar Center\, 6000 Hawk Ave\, NorthRichland Hills\, TX\, 76180
ORGANIZER;CN="Texas Guitar Society":MAILTO:Abraham@texasguitarsociety.com
END:VEVENT
BEGIN:VEVENT
DTSTART;TZID=UTC:20230923T053000
DTEND;TZID=UTC:20230923T190000
DTSTAMP:20260423T160416
CREATED:20230829T052212Z
LAST-MODIFIED:20230829T052212Z
UID:983-1695447000-1695495600@adeniyisamuelmusic.com
SUMMARY:Renewal (A Two-Man Musical)
DESCRIPTION:Renewal (A Two-Man Musical): Addressing Marital Conflict From the Perspective of the gospel of Christ. \nThe increase in marriage conflicts has been normalized in our society\, even among Christians\, against God’s original and perfect plan for marriage and family. This issue affects not only the couples involved in many ways but the children as well\, contributing to the moral decay in our society and the world. Many members of our audience have been affected by conflict in their families\, either as a spouse or as children. \nSynopsis \nSet against the backdrop of a bustling West African city\, Renewal (A Two-Man Musical): Addressing Conflict in Marriage from the Perspective of the Gospel of Christ – is a glimpse into the lives of a Christian married couple working through their marital struggles. The ebb and flow of sweet moments and crises inadvertently leads them to search for answers in God’s word. \nThe plot begins with fond memories on a Saturday morning of how Aduke and Adesina first met but spirals into odd conversations and attitudes betraying a performance-based love that insists on its selfish ways instead of lovingly serving one another. They gradually turn against each other as enemies who consistently disagree on many issues. Thank God for His forgiving grace\, mercy\, and love that convicted Aduke and Adesina through His Word and restored their marriage against all odds. The musical ended with the celebration of God’s grace and forgiveness extended to one another as the couple set on a new adventure with promises to align with God’s Word – inspiring them to be gracious\, humble\, understanding\, loving\, and many more towards each other. \n\nAdeniyi Samuel: Playwright and Composer\nRanti Néo: Co-playwright\nAlexia Rowe: Co-playwright\nRanti Néo and Adeniyi Samuel: Performers
URL:https://adeniyisamuelmusic.com/event/renewal-a-two-man-musical-5/
LOCATION:The CityLight Church\, 824 E 43 St.\, Chicago\, IL\, 60653\, United States
END:VEVENT
BEGIN:VEVENT
DTSTART;TZID=UTC:20230922T190000
DTEND;TZID=UTC:20230922T203000
DTSTAMP:20260423T160416
CREATED:20230829T051457Z
LAST-MODIFIED:20230829T051457Z
UID:981-1695409200-1695414600@adeniyisamuelmusic.com
SUMMARY:Renewal (A Two-Man Musical)
DESCRIPTION:Renewal (A Two-Man Musical): Addressing Marital Conflict From the Perspective of the gospel of Christ. \nThe increase in marriage conflicts has been normalized in our society\, even among Christians\, against God’s original and perfect plan for marriage and family. This issue affects not only the couples involved in many ways but the children as well\, contributing to the moral decay in our society and the world. Many members of our audience have been affected by conflict in their families\, either as a spouse or as children. \nSynopsis \nSet against the backdrop of a bustling West African city\, Renewal (A Two-Man Musical): Addressing Conflict in Marriage from the Perspective of the Gospel of Christ – is a glimpse into the lives of a Christian married couple working through their marital struggles. The ebb and flow of sweet moments and crises inadvertently leads them to search for answers in God’s word. \nThe plot begins with fond memories on a Saturday morning of how Aduke and Adesina first met but spirals into odd conversations and attitudes betraying a performance-based love that insists on its selfish ways instead of lovingly serving one another. They gradually turn against each other as enemies who consistently disagree on many issues. Thank God for His forgiving grace\, mercy\, and love that convicted Aduke and Adesina through His Word and restored their marriage against all odds. The musical ended with the celebration of God’s grace and forgiveness extended to one another as the couple set on a new adventure with promises to align with God’s Word – inspiring them to be gracious\, humble\, understanding\, loving\, and many more towards each other. \n\nAdeniyi Samuel: Playwright and Composer\nRanti Néo: Co-playwright\nAlexia Rowe: Co-playwright\nRanti Néo and Adeniyi Samuel: Performers
URL:https://adeniyisamuelmusic.com/event/renewal-a-two-man-musical-4/
LOCATION:TX
END:VEVENT
BEGIN:VEVENT
DTSTART;TZID=UTC:20230917T103000
DTEND;TZID=UTC:20230917T120000
DTSTAMP:20260423T160416
CREATED:20230829T051250Z
LAST-MODIFIED:20230829T051250Z
UID:978-1694946600-1694952000@adeniyisamuelmusic.com
SUMMARY:Renewal (A Two-Man Musical)
DESCRIPTION:Renewal (A Two-Man Musical): Addressing Marital Conflict From the Perspective of the gospel of Christ. \nThe increase in marriage conflicts has been normalized in our society\, even among Christians\, against God’s original and perfect plan for marriage and family. This issue affects not only the couples involved in many ways but the children as well\, contributing to the moral decay in our society and the world. Many members of our audience have been affected by conflict in their families\, either as a spouse or as children. \nSynopsis \nSet against the backdrop of a bustling West African city\, Renewal (A Two-Man Musical): Addressing Conflict in Marriage from the Perspective of the Gospel of Christ – is a glimpse into the lives of a Christian married couple working through their marital struggles. The ebb and flow of sweet moments and crises inadvertently leads them to search for answers in God’s word. \nThe plot begins with fond memories on a Saturday morning of how Aduke and Adesina first met but spirals into odd conversations and attitudes betraying a performance-based love that insists on its selfish ways instead of lovingly serving one another. They gradually turn against each other as enemies who consistently disagree on many issues. Thank God for His forgiving grace\, mercy\, and love that convicted Aduke and Adesina through His Word and restored their marriage against all odds. The musical ended with the celebration of God’s grace and forgiveness extended to one another as the couple set on a new adventure with promises to align with God’s Word – inspiring them to be gracious\, humble\, understanding\, loving\, and many more towards each other. \n\nAdeniyi Samuel: Playwright and Composer\nRanti Néo: Co-playwright\nAlexia Rowe: Co-playwright\nRanti Néo and Adeniyi Samuel: Performers
URL:https://adeniyisamuelmusic.com/event/renewal-a-two-man-musical-3/
LOCATION:The Redeemed Christian Church of God\, 40 Broad Street\, Freehold\, NJ\, 07728\, United States
END:VEVENT
BEGIN:VEVENT
DTSTART;TZID=UTC:20230916T173000
DTEND;TZID=UTC:20230916T190000
DTSTAMP:20260423T160416
CREATED:20230829T050809Z
LAST-MODIFIED:20230829T050809Z
UID:976-1694885400-1694890800@adeniyisamuelmusic.com
SUMMARY:Renewal (A Two-Man Musical)
DESCRIPTION:Renewal (A Two-Man Musical): Addressing Marital Conflict From the Perspective of the gospel of Christ. \nThe increase in marriage conflicts has been normalized in our society\, even among Christians\, against God’s original and perfect plan for marriage and family. This issue affects not only the couples involved in many ways but the children as well\, contributing to the moral decay in our society and the world. Many members of our audience have been affected by conflict in their families\, either as a spouse or as children. \nSynopsis \nSet against the backdrop of a bustling West African city\, Renewal (A Two-Man Musical): Addressing Conflict in Marriage from the Perspective of the Gospel of Christ – is a glimpse into the lives of a Christian married couple working through their marital struggles. The ebb and flow of sweet moments and crises inadvertently leads them to search for answers in God’s word. \nThe plot begins with fond memories on a Saturday morning of how Aduke and Adesina first met but spirals into odd conversations and attitudes betraying a performance-based love that insists on its selfish ways instead of lovingly serving one another. They gradually turn against each other as enemies who consistently disagree on many issues. Thank God for His forgiving grace\, mercy\, and love that convicted Aduke and Adesina through His Word and restored their marriage against all odds. The musical ended with the celebration of God’s grace and forgiveness extended to one another as the couple set on a new adventure with promises to align with God’s Word – inspiring them to be gracious\, humble\, understanding\, loving\, and many more towards each other. \n\nAdeniyi Samuel: Playwright and Composer\nRanti Néo: Co-playwright\nAlexia Rowe: Co-playwright\nRanti Néo and Adeniyi Samuel: Performers
URL:https://adeniyisamuelmusic.com/event/renewal-a-two-man-musical-2/
LOCATION:TX
END:VEVENT
BEGIN:VEVENT
DTSTART;TZID=UTC:20230915T190000
DTEND;TZID=UTC:20230915T203000
DTSTAMP:20260423T160416
CREATED:20230829T050036Z
LAST-MODIFIED:20230829T050036Z
UID:971-1694804400-1694809800@adeniyisamuelmusic.com
SUMMARY:Renewal (A Two-Man Musical)
DESCRIPTION:Renewal (A Two-Man Musical): Addressing Marital Conflict From the Perspective of the gospel of Christ. \nThe increase in marriage conflicts has been normalized in our society\, even among Christians\, against God’s original and perfect plan for marriage and family. This issue affects not only the couples involved in many ways but the children as well\, contributing to the moral decay in our society and the world. Many members of our audience have been affected by conflict in their families\, either as a spouse or as children. \nSynopsis \nSet against the backdrop of a bustling West African city\, Renewal (A Two-Man Musical): Addressing Conflict in Marriage from the Perspective of the Gospel of Christ – is a glimpse into the lives of a Christian married couple working through their marital struggles. The ebb and flow of sweet moments and crises inadvertently leads them to search for answers in God’s word. \nThe plot begins with fond memories on a Saturday morning of how Aduke and Adesina first met but spirals into odd conversations and attitudes betraying a performance-based love that insists on its selfish ways instead of lovingly serving one another. They gradually turn against each other as enemies who consistently disagree on many issues. Thank God for His forgiving grace\, mercy\, and love that convicted Aduke and Adesina through His Word and restored their marriage against all odds. The musical ended with the celebration of God’s grace and forgiveness extended to one another as the couple set on a new adventure with promises to align with God’s Word – inspiring them to be gracious\, humble\, understanding\, loving\, and many more towards each other. \n\nAdeniyi Samuel: Playwright and Composer\nRanti Néo: Co-playwright\nAlexia Rowe: Co-playwright\nRanti Néo and Adeniyi Samuel: Performers
URL:https://adeniyisamuelmusic.com/event/renewal-a-two-man-musical/
LOCATION:Gordon Conwell Theological Seminary\, Chapel Hall\, 130 Essex St\, South Hamilton\, MA\, 01982\, United States
END:VEVENT
BEGIN:VEVENT
DTSTART;TZID=UTC:20230722T170000
DTEND;TZID=UTC:20230722T170000
DTSTAMP:20260423T160416
CREATED:20230519T022347Z
LAST-MODIFIED:20230519T022347Z
UID:906-1690045200-1690045200@adeniyisamuelmusic.com
SUMMARY:The Marriage of Figaro: SunnySide Opera\, FL.
DESCRIPTION:Adeniyi Samuel\, Bass-Baritone: debut opera with SunnySide Opera\, as Bartolo in the production of The Marriage of Figaro\, composed by W. A. Mozart.\nDirected by Lois Larsen\nConducted by Dr. Jonathan Bassett
URL:https://adeniyisamuelmusic.com/event/the-marriage-of-figaro-sunnyside-opera-fl-2/
LOCATION:TX
END:VEVENT
BEGIN:VEVENT
DTSTART;TZID=UTC:20230331T193000
DTEND;TZID=UTC:20230331T210000
DTSTAMP:20260423T160416
CREATED:20230325T173458Z
LAST-MODIFIED:20230325T173458Z
UID:890-1680291000-1680296400@adeniyisamuelmusic.com
SUMMARY:Spirit & Truth Worship Series
DESCRIPTION:Spirit & Truth Worship Series includes songs from my forthcoming Extended Play (EP)\, familiar\, Psalms\, Hymns\, and Spiritual Songs\, as admonished us in Colossians 3:16 and Ephesians 5:19. I strongly believe that you will be encouraged and blessed as you join us in the worship of our Savior\, Jesus Christ. \nSpirit & Truth Worship Series is provided free of charge. We rely on your generous donations to continue to perform around the country.
URL:https://adeniyisamuelmusic.com/event/spirit-truth-worship-series/
LOCATION:TX
END:VEVENT
BEGIN:VEVENT
DTSTART;TZID=UTC:20230218T130000
DTEND;TZID=UTC:20230218T143000
DTSTAMP:20260423T160416
CREATED:20230415T030754Z
LAST-MODIFIED:20230415T030754Z
UID:902-1676725200-1676730600@adeniyisamuelmusic.com
SUMMARY:A River of Black Music Flowing Through the Ages - Main Street Baptist Church\, VA.
DESCRIPTION:Adeniyi Samuel (Bass-Baritone)\, Joy Vernon (Soprano)\, and Taylor Doughtie (Pianist). A River of Black Music Flowing Through the Ages: From Work Fields to Broadway. Organized by the Main Street Baptist Church\, VA.
URL:https://adeniyisamuelmusic.com/event/a-river-of-black-music-flowing-through-the-ages-main-street-baptist-church-va/
LOCATION:TX
ORGANIZER;CN="Main Street Baptist Church":MAILTO:mainstreetch@aol.com
END:VEVENT
BEGIN:VEVENT
DTSTART;TZID=UTC:20221223T190000
DTEND;TZID=UTC:20221223T203000
DTSTAMP:20260423T160416
CREATED:20230331T033931Z
LAST-MODIFIED:20230331T033931Z
UID:893-1671822000-1671827400@adeniyisamuelmusic.com
SUMMARY:We Need a Savior (A One-Man Musical)
DESCRIPTION:A telling of the birth of Christ from an African perspective in a One-Man musical with Nigerian and classical music influences. Adeniyi Samuel\, bass-baritone\, performs a beautifully knitted story of The Need for a Savior as we remember the birth of our Lord Jesus Christ. \nCo-written by Adeniyi Samuel and Alexia Rowe \nPerformed by Adeniyi Samuel\, Bass-baritone \nExperience: Chants (Yorùbá Ewì) Monologues\, Spoken Word\, African American Spirituals/Gospel\, English Folk Melody\, Yorùbà Songs\, and more. \nYou won’t want to miss it!
URL:https://adeniyisamuelmusic.com/event/we-need-a-savior-a-one-man-musical-2/
LOCATION:TX
END:VEVENT
BEGIN:VEVENT
DTSTART;TZID=UTC:20221210T183000
DTEND;TZID=UTC:20221210T193000
DTSTAMP:20260423T160416
CREATED:20230328T184519Z
LAST-MODIFIED:20230328T184519Z
UID:892-1670697000-1670700600@adeniyisamuelmusic.com
SUMMARY:We Need a Savior: A One-Man Musical
DESCRIPTION:A telling of the birth of Christ from an African perspective in a One-Man musical with Nigerian and classical music influences. Adeniyi Samuel\, bass-baritone\, performs a beautifully knitted story of The Need for a Savior as we remember the birth of our Lord Jesus Christ. \nCo-written by Adeniyi Samuel and Alexia Rowe \nPerformed by Adeniyi Samuel\, Bass-baritone \nExperience: Chants (Yorùbá Ewì) Monologues\, Spoken Word\, African American Spirituals/Gospel\, English Folk Melody\, Yorùbà Songs\, and more. \nYou won’t want to miss it!
URL:https://adeniyisamuelmusic.com/event/we-need-a-savior-a-one-man-musical/
LOCATION:TX
END:VEVENT
BEGIN:VEVENT
DTSTART;TZID=UTC:20221001T190000
DTEND;TZID=UTC:20221031T220000
DTSTAMP:20260423T160416
CREATED:20230331T042918Z
LAST-MODIFIED:20230331T042918Z
UID:895-1664650800-1667253600@adeniyisamuelmusic.com
SUMMARY:No Ghost - History Alive\, Salem
DESCRIPTION:Adeniyi Samuel\, Bass-Baritone as the music arranger for No Ghost in the Old Town Hall produced by History Alive\, Salem. \nDirected by Kristina Stevick
URL:https://adeniyisamuelmusic.com/event/no-ghost-history-alive-incorporated/
LOCATION:TX
END:VEVENT
BEGIN:VEVENT
DTSTART;VALUE=DATE:20220919
DTEND;VALUE=DATE:20221101
DTSTAMP:20260423T160416
CREATED:20230331T041129Z
LAST-MODIFIED:20230331T041129Z
UID:894-1663545600-1667260799@adeniyisamuelmusic.com
SUMMARY:Cry Innocent - History Alive Salem
DESCRIPTION:Adeniyi Samuel\, Bass-Baritone performing as the Psalmist in Cry Innocent: An adaptation of the Salem witch trial of 1691 produced my History Alive\, Inc. \nDirected by Kristina Stevick
URL:https://adeniyisamuelmusic.com/event/cry-innocent-history-alive-salem/
LOCATION:TX
END:VEVENT
BEGIN:VEVENT
DTSTART;TZID=UTC:20220902T200000
DTEND;TZID=UTC:20220904T140000
DTSTAMP:20260423T160416
CREATED:20230325T165914Z
LAST-MODIFIED:20230325T165914Z
UID:889-1662148800-1662300000@adeniyisamuelmusic.com
SUMMARY:The Brigands - Victorian Lyric Opera
DESCRIPTION:Adeniyi Samuel\, Bass-Baritone\, performing the role of Baron Campotasso in Jacques Offenbach’s The Brigands produced by Victorian Lyrics Opera\, MD. \nDirected by Deborah Grossman\nMusic Direction by Joseph Sorge
URL:https://adeniyisamuelmusic.com/event/the-brigands-victorian-lyric-opera/
LOCATION:TX
END:VEVENT
BEGIN:VEVENT
DTSTART;TZID=UTC:20220821T140000
DTEND;TZID=UTC:20220821T160000
DTSTAMP:20260423T160416
CREATED:20230331T043915Z
LAST-MODIFIED:20230331T043915Z
UID:896-1661090400-1661097600@adeniyisamuelmusic.com
SUMMARY:Two Point Off the Weather Bow - History Alive Salem
DESCRIPTION:Adeniyi Samuel\, Bass-Baritone perfoming as Sam in History Alive production of Two Point off the Weater Bow: A Sea Shanty tales. Step on Board the Ballmer for a shanty-filled\, high-seas whaling adventure. \nDirected by Jennifer Emerson
URL:https://adeniyisamuelmusic.com/event/two-point-off-the-weather-bow-history-alive-salem/
LOCATION:TX
END:VEVENT
BEGIN:VEVENT
DTSTART;TZID=UTC:20220716T130000
DTEND;TZID=UTC:20220716T150000
DTSTAMP:20260423T160416
CREATED:20230415T022222Z
LAST-MODIFIED:20230415T022222Z
UID:900-1657976400-1657983600@adeniyisamuelmusic.com
SUMMARY:Negro Election Day - Salem United\, Inc. MA
DESCRIPTION:Adeniyi Samuel (Bass-Baritone) Soloist at the Negro Election Day Celebration\, Salem\, organized by Salem United\, Inc. MA. \nCome out and celebrate and register to vote because they could not! Come out and celebrate the 282nd Annual Festival of Negro Election Day with live entertainment\, local and community vendors\, kids corner\, and more! The event will take place on Saturday July 16th from 8am to 8pm at Salem Willows Park 165 Fort Ave. Salem MA 01970.
URL:https://adeniyisamuelmusic.com/event/negro-election-day-salem-united-inc-ma/
LOCATION:TX
END:VEVENT
BEGIN:VEVENT
DTSTART;TZID=UTC:20220612T150000
DTEND;TZID=UTC:20220612T160000
DTSTAMP:20260423T160416
CREATED:20230415T023738Z
LAST-MODIFIED:20230415T023738Z
UID:901-1655046000-1655049600@adeniyisamuelmusic.com
SUMMARY:Reading Frederick Douglass Together - Salem Athenæum\, MA
DESCRIPTION:Adeniyi Samuel (Bass-Baritone) Soloist at the Reading of Frederick Douglass Together\, organized by Salem Athenæum\, MA. \nOn June 12\, 2022\, the Salem Athenaeum will host a public reading of Frederick Douglass’s speech\, “What to the Slave Is the Fourth of July.” \nDouglass first gave this speech\, perhaps his most famous\, in Rochester\, New York on July 5\, 1852. As an acclaimed abolitionist orator and agent for The Massachusetts Anti-Slavery Society\, Douglass gave many speeches across the North and Midwest United States\, including in Salem.
URL:https://adeniyisamuelmusic.com/event/reading-frederick-douglass-together-salem-athenaeum-ma/
LOCATION:TX
END:VEVENT
BEGIN:VEVENT
DTSTART;TZID=UTC:20220408T190000
DTEND;TZID=UTC:20220412T220000
DTSTAMP:20260423T160416
CREATED:20230331T050302Z
LAST-MODIFIED:20230331T050302Z
UID:897-1649444400-1649800800@adeniyisamuelmusic.com
SUMMARY:Le nozze di Figaro - Temple University Opera Theater
DESCRIPTION:Adeniyi Samuel\, Bass-Baritone perfoming the role of Bartolo in Mozart’s LE NOZZE DI FIGARO produced by Temple University Opera Theater. \nDirector by Brandon McShaffery \nConducted by Michael Sakir \nProduced by Jamie Johnson
URL:https://adeniyisamuelmusic.com/event/le-nozze-di-figaro-temple-university-opera-theater/
LOCATION:TX
END:VEVENT
BEGIN:VEVENT
DTSTART;TZID=UTC:20211218T180000
DTEND;TZID=UTC:20211218T193000
DTSTAMP:20260423T160416
CREATED:20230325T190713Z
LAST-MODIFIED:20230325T190713Z
UID:891-1639850400-1639855800@adeniyisamuelmusic.com
SUMMARY:We Need A Savior: A One-Man Musical
DESCRIPTION:Come join us for the premiere of original Nigerian-influenced worship songs by Adeniyi Samuel. These original works incorporate and add depth to existing popular Nigerian church melodies. \nWe Need a Savior (A One-Man Musical) \nCome and experience a one-man musical with Nigerian and classical music influences\, as Bass-baritone Adeniyi Samuel premieres a beautifully knitted story of The Need for a Savior\, as we remember the birth of Jesus Christ. You won’t want to miss it! \nWritten by Alexia Rowe\, Adeniyi Samuel and performed by Adeniyi Samuel\, Bass-baritone. \nExperience: Poems (Yoruba Ewì)\, Monologues\, Spoken Word\, African-American Spirituals\, Art-Songs\, and more. \n\n\n\n\nPlease\, keep in mind if you enjoy your evening\, consider making a voluntary donation that will help cover expenses\, fund future productions\, and establish a fledgling artist’s career. Any amount helps and would be greatly appreciated. A donation may be made via Zelle (9788106289)\, CashApp (@SamOye1)\, Venmo (@Adeniyi-Samuel)\, PayPal (@AdeniyiSamuel69). \nPlease\, reach out via email (samoye424@gmail.com) if you would prefer to donate via another medium or wish to offer ongoing support. Thank you for considering making a donation and for supporting the independent performing arts.
URL:https://adeniyisamuelmusic.com/event/we-need-a-savior-2021/
LOCATION:TX
END:VEVENT
BEGIN:VEVENT
DTSTART;TZID=UTC:20211030T193000
DTEND;TZID=UTC:20211103T223000
DTSTAMP:20260423T160416
CREATED:20230331T051036Z
LAST-MODIFIED:20230331T051036Z
UID:898-1635622200-1635978600@adeniyisamuelmusic.com
SUMMARY:Impressions de Pelléas - Temple University Opera Theater
DESCRIPTION:Adeniyi Samuel\, Bass-Baritone performing the role of Arkel in Debussy’s Impressions de Pelléas produced by Temple University Opera Theater. \nDirected by Copeland Woodruff \nConducted by Joseph Mechavich \nProduced by Jamie Johnson
URL:https://adeniyisamuelmusic.com/event/impressions-de-pelleas-temple-university-opera-theater/
LOCATION:TX
END:VEVENT
BEGIN:VEVENT
DTSTART;TZID=UTC:20210416T190000
DTEND;TZID=UTC:20210416T213000
DTSTAMP:20260423T160416
CREATED:20230331T051700Z
LAST-MODIFIED:20230331T051700Z
UID:899-1618599600-1618608600@adeniyisamuelmusic.com
SUMMARY:Die Fledermaus - Temple University Theater
DESCRIPTION:Adeniyi Samuel\, Bass-Baritone as Frank (Cover) in Temple University Opera Theater production of Johann Strauss’s Die Fledermaus. \nConductor: Steven Gross \nDirector: Octavio Cardenas \nProduced: Jamie Johnson
URL:https://adeniyisamuelmusic.com/event/die-fledermaus-temple-university-theater/
LOCATION:TX
END:VEVENT
END:VCALENDAR